BEGIN:VCALENDAR
VERSION:2.0
PRODID:-//wp-events-plugin.com//7.2.3.1//EN
TZID:Europe/Berlin
X-WR-TIMEZONE:Europe/Berlin
BEGIN:VEVENT
UID:0-17@arbeitskreise.rkw-rlp.de
DTSTART;TZID=Europe/Berlin:20211201T090000
DTEND;TZID=Europe/Berlin:20211201T160000
DTSTAMP:20211112T124839Z
URL:https://arbeitskreise.rkw-rlp.de/events/arbeitskreis-personal-3/
SUMMARY:Arbeitskreis Personal
DESCRIPTION:Bitte besuchen Sie unsere Terminseite für weitere Informatione
 n: https://arbeitskreise.rkw-rlp.de/veranstaltungen/
ATTACH;FMTTYPE=image/jpeg:https://arbeitskreise.rkw-rlp.de/wp-content/uplo
 ads/sites/3/2021/03/AK-Personal_Save-the-date_01122021.png
CATEGORIES:AK RME - Personal,Arbeitgebermarke,Networking
LOCATION:https://arbeitskreise.rkw-rlp.de/veranstaltungen/
END:VEVENT
BEGIN:VTIMEZONE
TZID:Europe/Berlin
X-LIC-LOCATION:Europe/Berlin
BEGIN:STANDARD
DTSTART:20211031T020000
TZOFFSETFROM:+0200
TZOFFSETTO:+0100
TZNAME:CET
END:STANDARD
END:VTIMEZONE
END:VCALENDAR