BEGIN:VCALENDAR
VERSION:2.0
PRODID:-//wp-events-plugin.com//7.2.3.1//EN
TZID:Europe/Berlin
X-WR-TIMEZONE:Europe/Berlin
BEGIN:VEVENT
UID:0-52@arbeitskreise.rkw-rlp.de
DTSTART;TZID=Europe/Berlin:20230607T090000
DTEND;TZID=Europe/Berlin:20230607T160000
DTSTAMP:20221230T092559Z
URL:https://arbeitskreise.rkw-rlp.de/events/arbeitskreis-personal-7/
SUMMARY:Arbeitskreis Personal
DESCRIPTION:Bitte besuchen Sie unsere Terminseite für weitere Informatione
 n: https://arbeitskreise.rkw-rlp.de/veranstaltungen/
ATTACH;FMTTYPE=image/jpeg:https://arbeitskreise.rkw-rlp.de/wp-content/uplo
 ads/sites/3/2022/12/AK-Personal-Save-the-date-07062023.jpg
CATEGORIES:AK RME - Personal,Arbeitgebermarke,Networking
LOCATION:https://arbeitskreise.rkw-rlp.de/veranstaltungen/
END:VEVENT
BEGIN:VTIMEZONE
TZID:Europe/Berlin
X-LIC-LOCATION:Europe/Berlin
BEGIN:DAYLIGHT
DTSTART:20230326T030000
TZOFFSETFROM:+0100
TZOFFSETTO:+0200
TZNAME:CEST
END:DAYLIGHT
END:VTIMEZONE
END:VCALENDAR