BEGIN:VCALENDAR
VERSION:2.0
PRODID:-//wp-events-plugin.com//7.2.3.1//EN
TZID:Europe/Berlin
X-WR-TIMEZONE:Europe/Berlin
BEGIN:VEVENT
UID:0-21@arbeitskreise.rkw-rlp.de
DTSTART;TZID=Europe/Berlin:20210520T150000
DTEND;TZID=Europe/Berlin:20210520T170000
DTSTAMP:20211016T070633Z
URL:https://arbeitskreise.rkw-rlp.de/events/informationsveranstaltung-zur-
 arbeitgebermarke/
SUMMARY:Informationsveranstaltung zur Arbeitgebermarke
DESCRIPTION:Bitte besuchen Sie unsere Terminseite für weitere Informatione
 n: https://arbeitskreise.rkw-rlp.de/veranstaltungen/
ATTACH;FMTTYPE=image/jpeg:https://arbeitskreise.rkw-rlp.de/wp-content/uplo
 ads/sites/3/2021/05/RKW-Infoveranstaltung-AGM.jpg
CATEGORIES:AK RME - Personal,Arbeitgebermarke,Networking,Online -
 Berater,Online - Sprechstunde,Online - Verein,Online - WiFö
END:VEVENT
BEGIN:VTIMEZONE
TZID:Europe/Berlin
X-LIC-LOCATION:Europe/Berlin
BEGIN:DAYLIGHT
DTSTART:20210328T030000
TZOFFSETFROM:+0100
TZOFFSETTO:+0200
TZNAME:CEST
END:DAYLIGHT
END:VTIMEZONE
END:VCALENDAR