BEGIN:VCALENDAR
VERSION:2.0
PRODID:-//wp-events-plugin.com//7.2.3.1//EN
TZID:Europe/Berlin
X-WR-TIMEZONE:Europe/Berlin
BEGIN:VEVENT
UID:0-8@arbeitskreise.rkw-rlp.de
DTSTART;TZID=Europe/Berlin:20210312T140000
DTEND;TZID=Europe/Berlin:20210312T150000
DTSTAMP:20211016T070344Z
URL:https://arbeitskreise.rkw-rlp.de/events/online-sprechstunde-foerderwet
 tbewerbe-in-rheinland-pfalz/
SUMMARY:RKW Onlinesprechstunde – Förderwettbewerb Startup innovativ
DESCRIPTION:Bitte besuchen Sie unsere Terminseite für weitere Informatione
 n: https://arbeitskreise.rkw-rlp.de/veranstaltungen/
ATTACH;FMTTYPE=image/jpeg:https://arbeitskreise.rkw-rlp.de/wp-content/uplo
 ads/sites/3/2021/02/RKW-Onlinesprechstunde-scaled.jpg
CATEGORIES:Online - Gründung,Online - Sprechstunde,Online - Verein
LOCATION:http://www.arbeitskreise.rkw-rlp.de/online-sprechstunde-foerderwet
 tbewerbe-in-rheinland-pfalz
END:VEVENT
BEGIN:VTIMEZONE
TZID:Europe/Berlin
X-LIC-LOCATION:Europe/Berlin
BEGIN:STANDARD
DTSTART:20201025T020000
TZOFFSETFROM:+0200
TZOFFSETTO:+0100
TZNAME:CET
END:STANDARD
END:VTIMEZONE
END:VCALENDAR