BEGIN:VCALENDAR
VERSION:2.0
PRODID:-//wp-events-plugin.com//7.2.3.1//EN
TZID:Europe/Berlin
X-WR-TIMEZONE:Europe/Berlin
BEGIN:VEVENT
UID:0-49@arbeitskreise.rkw-rlp.de
DTSTART;TZID=Europe/Berlin:20230303T150000
DTEND;TZID=Europe/Berlin:20230303T160000
DTSTAMP:20230303T133145Z
URL:https://arbeitskreise.rkw-rlp.de/events/rkw-online-sprechstunde-arbeit
 gebermarke-03-2023/
SUMMARY:RKW Online-Sprechstunde: Arbeitgebermarke
DESCRIPTION:Bitte besuchen Sie unsere Terminseite für weitere Informatione
 n: https://arbeitskreise.rkw-rlp.de/veranstaltungen/
ATTACH;FMTTYPE=image/jpeg:https://arbeitskreise.rkw-rlp.de/wp-content/uplo
 ads/sites/3/2022/01/RKW-Online-Sprechstunde_grauer-Header.png
CATEGORIES:Arbeitgebermarke,Online - Sprechstunde
LOCATION:https://arbeitskreise.rkw-rlp.de/veranstaltungen/
END:VEVENT
BEGIN:VTIMEZONE
TZID:Europe/Berlin
X-LIC-LOCATION:Europe/Berlin
BEGIN:STANDARD
DTSTART:20221030T020000
TZOFFSETFROM:+0200
TZOFFSETTO:+0100
TZNAME:CET
END:STANDARD
END:VTIMEZONE
END:VCALENDAR