BEGIN:VCALENDAR
VERSION:2.0
PRODID:-//wp-events-plugin.com//7.2.3.1//EN
TZID:Europe/Berlin
X-WR-TIMEZONE:Europe/Berlin
BEGIN:VEVENT
UID:0-40@arbeitskreise.rkw-rlp.de
DTSTART;TZID=Europe/Berlin:20220520T150000
DTEND;TZID=Europe/Berlin:20220520T160000
DTSTAMP:20220520T110100Z
URL:https://arbeitskreise.rkw-rlp.de/events/rkw-online-sprechstunde-arbeit
 skreis-qm-it/
SUMMARY:RKW Online-Sprechstunde – Arbeitskreis QM-IT
DESCRIPTION:Bitte besuchen Sie unsere Terminseite für weitere Informatione
 n: https://arbeitskreise.rkw-rlp.de/veranstaltungen/
ATTACH;FMTTYPE=image/jpeg:https://arbeitskreise.rkw-rlp.de/wp-content/uplo
 ads/sites/3/2022/01/RKW-Online-Sprechstunde_grauer-Header.png
CATEGORIES:AK QM-IT,Online - Sprechstunde,Unternehmerkreis
LOCATION:https://arbeitskreise.rkw-rlp.de/veranstaltungen/
END:VEVENT
BEGIN:VTIMEZONE
TZID:Europe/Berlin
X-LIC-LOCATION:Europe/Berlin
BEGIN:DAYLIGHT
DTSTART:20220327T030000
TZOFFSETFROM:+0100
TZOFFSETTO:+0200
TZNAME:CEST
END:DAYLIGHT
END:VTIMEZONE
END:VCALENDAR