BEGIN:VCALENDAR
VERSION:2.0
PRODID:-//wp-events-plugin.com//7.2.3.1//EN
TZID:Europe/Berlin
X-WR-TIMEZONE:Europe/Berlin
BEGIN:VEVENT
UID:0-34@arbeitskreise.rkw-rlp.de
DTSTART;TZID=Europe/Berlin:20220325T150000
DTEND;TZID=Europe/Berlin:20220325T160000
DTSTAMP:20220325T135503Z
URL:https://arbeitskreise.rkw-rlp.de/events/rkw-online-sprechstunde-iso-ze
 rtifizierungen/
SUMMARY:RKW Online-Sprechstunde – ISO-Zertifizierungen
DESCRIPTION:Bitte besuchen Sie unsere Terminseite für weitere Informatione
 n: https://arbeitskreise.rkw-rlp.de/veranstaltungen/
ATTACH;FMTTYPE=image/jpeg:https://arbeitskreise.rkw-rlp.de/wp-content/uplo
 ads/sites/3/2022/01/RKW-Online-Sprechstunde_grauer-Header.png
CATEGORIES:Online - Sprechstunde
LOCATION:https://arbeitskreise.rkw-rlp.de/veranstaltungen/
END:VEVENT
BEGIN:VTIMEZONE
TZID:Europe/Berlin
X-LIC-LOCATION:Europe/Berlin
BEGIN:STANDARD
DTSTART:20211031T020000
TZOFFSETFROM:+0200
TZOFFSETTO:+0100
TZNAME:CET
END:STANDARD
END:VTIMEZONE
END:VCALENDAR