BEGIN:VCALENDAR
VERSION:2.0
PRODID:-//wp-events-plugin.com//7.2.3.1//EN
TZID:Europe/Berlin
X-WR-TIMEZONE:Europe/Berlin
BEGIN:VEVENT
UID:0-47@arbeitskreise.rkw-rlp.de
DTSTART;TZID=Europe/Berlin;VALUE=DATE:20230623
DTEND;TZID=Europe/Berlin;VALUE=DATE:20230624
DTSTAMP:20230324T131731Z
URL:https://arbeitskreise.rkw-rlp.de/events/zertifizierung-zum-rkw-berater
 -in-rheinland-pfalz/
SUMMARY:Zertifizierung zum RKW-Berater in Rheinland-Pfalz (Datum tbd)
DESCRIPTION:Bitte besuchen Sie unsere Terminseite für weitere Informatione
 n: https://arbeitskreise.rkw-rlp.de/veranstaltungen/
CATEGORIES:Berater
END:VEVENT
BEGIN:VTIMEZONE
TZID:Europe/Berlin
X-LIC-LOCATION:Europe/Berlin
BEGIN:DAYLIGHT
DTSTART:20230326T030000
TZOFFSETFROM:+0100
TZOFFSETTO:+0200
TZNAME:CEST
END:DAYLIGHT
END:VTIMEZONE
END:VCALENDAR